BEGIN:VCALENDAR
VERSION:2.0
PRODID:-//jEvents 2.0 for Joomla//EN
CALSCALE:GREGORIAN
METHOD:PUBLISH
BEGIN:VEVENT
UID:8519571316b08e3dd5cc1835e1e34499
CATEGORIES:Punto de Inclusión Digital
CREATED:20230314T090717
SUMMARY:DIVERTIPID - Primaria
LOCATION:Punto de Inclusión Digital
DESCRIPTION:<p><a href="el-municipio/pid/360-divertipid">https://www.fuencaliente.es/el
 -municipio/pid/360-divertipid</a></p>
X-ALT-DESC;FMTTYPE=text/html:<p><a href="https://fuencaliente.es/el-municipio/pid/360-divertipid">https:
 //www.fuencaliente.es/el-municipio/pid/360-divertipid</a></p>
CONTACT:Esta dirección de correo electrónico está siendo protegida contra los robots de spam. Necesita tener JavaScript habilitado para poder verlo.
DTSTAMP:20260420T081241
DTSTART:20230322T160000
SEQUENCE:0
TRANSP:OPAQUE
END:VEVENT
END:VCALENDAR