BEGIN:VCALENDAR
VERSION:2.0
PRODID:-//jEvents 2.0 for Joomla//EN
CALSCALE:GREGORIAN
METHOD:PUBLISH
BEGIN:VEVENT
UID:ed101b7fc521c359bc8d51f3a6734c30
CATEGORIES:Fuencaliente
CREATED:20230614T125504
SUMMARY:SESIÓN CONSTITUTIVA CORPORACIÓN
LOCATION:Ayuntamiento de Fuencaliente
DESCRIPTION:<p class="bg-primary" style="text-align: center;">ANUNCIO CELEBRACIÓN SESIÓ
 N CONSTITUTIVA PLENO DE LA CORPORACIÓN</p><p><strong>ORDEN DEL DÍA</strong>
 </p><ul><li>UNICO. Constitución de la nueva Corporación Municipal y Elecció
 n de Alcalde</li></ul><p>&nbsp;</p><p><strong>DÍA, HORA Y LUGAR</strong></p
 ><ul><li>17 junio</li><li>19:30 horas</li><li>Salón de Plenos del Ayuntamie
 nto</li></ul>
CONTACT:Ayuntamiento
DTSTAMP:20260420T081404
DTSTART:20230617T193000
SEQUENCE:0
TRANSP:OPAQUE
END:VEVENT
END:VCALENDAR