BEGIN:VCALENDAR
VERSION:2.0
PRODID:-//jEvents 2.0 for Joomla//EN
CALSCALE:GREGORIAN
METHOD:PUBLISH
BEGIN:VEVENT
UID:92f4562ccb0f64b4f5d4e1fd6f456a71
CATEGORIES:Fuencaliente
CREATED:20230627T162114
SUMMARY:ORGULLO LGTBI: Puesta de la balconera LGTBI en el Ayuntamiento
LOCATION:Ayuntamiento de Fuencaliente
DESCRIPTION:<p>Detalle:&nbsp;<a href="el-municipio/igualdad/395-orgullo-lgtbi-2023?fbcl
 id=IwAR00SuR_eMsr-En2SPikBBzbRHwQYa7mN3ug1EPVHZyI2HaQLsMGg8dvmmo">https://w
 ww.fuencaliente.es/el-municipio/igualdad/395-orgullo-lgtbi-2023</a><span></
 span></p>
X-ALT-DESC;FMTTYPE=text/html:<p>Detalle:&nbsp;<a href="https://fuencaliente.es/el-municipio/igualdad/395
 -orgullo-lgtbi-2023?fbclid=IwAR00SuR_eMsr-En2SPikBBzbRHwQYa7mN3ug1EPVHZyI2H
 aQLsMGg8dvmmo">https://www.fuencaliente.es/el-municipio/igualdad/395-orgull
 o-lgtbi-2023</a><span></span></p>
CONTACT:Ayuntamiento
DTSTAMP:20260420T081252
DTSTART:20230628T103000
DTEND:20230628T110000
SEQUENCE:0
TRANSP:OPAQUE
END:VEVENT
END:VCALENDAR