BEGIN:VCALENDAR
VERSION:2.0
PRODID:-//jEvents 2.0 for Joomla//EN
CALSCALE:GREGORIAN
METHOD:PUBLISH
BEGIN:VEVENT
UID:5646557449cd9da5c4677ff7ec54e964
CATEGORIES:Turismo
CREATED:20230704T125927
SUMMARY:OBSERVACION DE ESTRELLAS
DESCRIPTION:<p><strong>Te apetece disfrutar de una noche de estrellas?</strong></p><p>A
 cércate a Fuencaliente el 14 de julio y descubre durante dos horas el mundo
  de la astronomía a través de esta actividad en el Valle de Alcudia y Sierr
 a Madrona, declarado Destino Turístico Starlight por la calidad de sus ciel
 os.</p><p><strong>Lugar:</strong>&nbsp;En el observatorio de estrellas, sit
 uado en el camino que va a Peña Escrita antes de llegar al aparcamiento.</p
 ><p><strong>Plazas limitadas e inscripciones gratuitas.</strong></p><p><str
 ong>Reserva tu actividad e infórmate sobre las recomendaciones en el siguie
 nte enlace</strong>:&nbsp;<a href="https://madronactiva.com/tour/veranos-as
 tronomicos-jccm-7/"></a><a href="https://madronactiva.com/tour/veranos-astr
 onomicos-jccm-7/">https://madronactiva.com/tour/veranos-astronomicos-jccm-7
 /</a>&nbsp;</p>
DTSTAMP:20260420T100449
DTSTART:20230714T230000
DTEND;VALUE=DATE:20230716
SEQUENCE:0
TRANSP:OPAQUE
END:VEVENT
END:VCALENDAR