BEGIN:VCALENDAR
VERSION:2.0
PRODID:-//jEvents 2.0 for Joomla//EN
CALSCALE:GREGORIAN
METHOD:PUBLISH
BEGIN:VEVENT
UID:ce4f2983a4700d8d4d07a30cd606bc0d
CATEGORIES:Fuencaliente
CREATED:20230722T104635
SUMMARY:Desafio Cucon Trail
DESCRIPTION:<p>proximamente información</p>
DTSTAMP:20260420T114742
DTSTART;VALUE=DATE:20231015
DTEND;VALUE=DATE:20231016
SEQUENCE:0
TRANSP:OPAQUE
END:VEVENT
END:VCALENDAR