BEGIN:VCALENDAR
VERSION:2.0
PRODID:-//jEvents 2.0 for Joomla//EN
CALSCALE:GREGORIAN
METHOD:PUBLISH
BEGIN:VEVENT
UID:6cd596c2fea48ab8446532c40d679e42
CATEGORIES:Turismo
CREATED:20230916T110413
SUMMARY:PROGRAMA VIVE TU ESPACIO
LOCATION:Fuencaliente
DESCRIPTION:<div class="" data-block="true" data-editor="3di6s" data-offset-key="ft3d-0
 -0"><div class="_1mf _1mj" data-offset-key="ft3d-0-0"><span data-offset-key
 ="ft3d-0-0"><span data-text="true">PROGRAMA VIVE TU ESPACIO</span></span></
 div></div><div class="" data-block="true" data-editor="3di6s" data-offset-k
 ey="cmj8h-0-0"><div class="_1mf _1mj" data-offset-key="cmj8h-0-0"><span dat
 a-offset-key="cmj8h-0-0"><span data-text="true">Disfruta, conoce y vive nue
 stro espacio natural protegido con este programa y </span></span><span clas
 s="_5zk7" data-offset-key="cmj8h-1-0" spellcheck="spellcheck"><span data-of
 fset-key="cmj8h-1-0"><span data-text="true">#naturaleaencastillalamancha</s
 pan></span></span></div></div><div class="" data-block="true" data-editor="
 3di6s" data-offset-key="bb0q9-0-0"><div class="_1mf _1mj" data-offset-key="
 bb0q9-0-0"><span data-offset-key="bb0q9-0-0"><span data-text="true">Partici
 pa el día 7 de octubre en las Jornadas de Arte Rupestre en conmemoración de
 l Día Europeo del Arte Rupestre ➕ INFO en&nbsp;<a href="https://areasproteg
 idas.castillalamancha.es/rap/espacios-naturales-protegidos/enp-parque-natur
 al/274/visita-y-disfruta/actividades#actividades">https://areasprotegidas.c
 astillalamancha.es/rap/espacios-naturales-protegidos/enp-parque-natural/274
 /visita-y-disfruta/actividades#actividades</a></span></span></div></div><di
 v class="" data-block="true" data-editor="3di6s" data-offset-key="4ir9q-0-0
 "><div class="_1mf _1mj" data-offset-key="4ir9q-0-0"><span data-offset-key=
 "4ir9q-0-0"><span data-text="true">Actividad gratuita</span></span></div></
 div><div class="" data-block="true" data-editor="3di6s" data-offset-key="1b
 90b-0-0"><div class="_1mf _1mj" data-offset-key="1b90b-0-0"><span data-offs
 et-key="1b90b-0-0"></span></div></div><div class="" data-block="true" data-
 editor="3di6s" data-offset-key="2ce1a-0-0"><div class="_1mf _1mj" data-offs
 et-key="2ce1a-0-0"><span data-offset-key="2ce1a-0-0"><span data-text="true"
 >Consulta todas las actividades de los meses de octubre, noviembre y diciem
 bre en <a href="https://areasprotegidas.castillalamancha.es/actualidad/vive
 -tu-espacio-octubre-noviembre-diciembre-2023">https://areasprotegidas.casti
 llalamancha.es/actualidad/vive-tu-espacio-octubre-noviembre-diciembre-2023<
 /a></span></span></div></div>
DTSTAMP:20260420T113621
DTSTART:20231007T080000
DTEND:20231007T170000
SEQUENCE:0
TRANSP:OPAQUE
END:VEVENT
END:VCALENDAR