BEGIN:VCALENDAR
VERSION:2.0
PRODID:-//jEvents 2.0 for Joomla//EN
CALSCALE:GREGORIAN
METHOD:PUBLISH
BEGIN:VEVENT
UID:8fe070c343ffe35bd5a64880422257a4
CATEGORIES:Turismo
CREATED:20231130T112327
SUMMARY:NATURALEZA CON 5 SENTIDOS
LOCATION:Fuencaliente
DESCRIPTION:Disfruta en familia este sábado día 2 de diciembre en la aldea de Ventillas
  con el programa VIVE TU ESPACIO y "naturaleza con los 5 sentidos".\nAprend
 eréis sobre nuetro bosque en otoño y conocereis el ecosistema a través de u
 na yincana de 10 pistas y un juego de orientación.\nInscribete en el siguie
 nte enlace:  (https://areasprotegidas.castillalamancha.es/rap/espacios-natu
 rales-protegidos/enp-parque-natural/274/visita-y-disfruta/actividades#activ
 idades)https://areasprotegidas.castillalamancha.es/rap/espacios-naturales-p
 rotegidos/enp-parque-natural/274/visita-y-disfruta/actividades#actividades 
 (https://areasprotegidas.castillalamancha.es/rap/espacios-naturales-protegi
 dos/enp-parque-natural/274/visita-y-disfruta/actividades#actividades)\n
X-ALT-DESC;FMTTYPE=text/html:<p>Disfruta en familia este sábado día&nbsp;<strong>2 de diciembre</strong>
 &nbsp;en la&nbsp;<strong>aldea de Ventillas con el programa VIVE TU ESPACIO
 </strong>&nbsp;y "naturaleza con los 5 sentidos".</p><p>Aprenderéis sobre n
 uetro bosque en otoño y conocereis el ecosistema a través de una yincana de
  10 pistas y un juego de orientación.</p><p>Inscribete en el siguiente enla
 ce:&nbsp;<a href="https://areasprotegidas.castillalamancha.es/rap/espacios-
 naturales-protegidos/enp-parque-natural/274/visita-y-disfruta/actividades#a
 ctividades"></a><a href="https://areasprotegidas.castillalamancha.es/rap/es
 pacios-naturales-protegidos/enp-parque-natural/274/visita-y-disfruta/activi
 dades#actividades">https://areasprotegidas.castillalamancha.es/rap/espacios
 -naturales-protegidos/enp-parque-natural/274/visita-y-disfruta/actividades#
 actividades</a></p>
CONTACT:926470288
DTSTAMP:20260422T101606
DTSTART:20231202T080000
DTEND:20231202T170000
SEQUENCE:0
TRANSP:OPAQUE
END:VEVENT
END:VCALENDAR